BEGIN:VCALENDAR
VERSION:2.0
PRODID:-//12meat Social Dining - ECPv6.15.20//NONSGML v1.0//EN
CALSCALE:GREGORIAN
METHOD:PUBLISH
X-ORIGINAL-URL:https://12meat.de
X-WR-CALDESC:Veranstaltungen für 12meat Social Dining
REFRESH-INTERVAL;VALUE=DURATION:PT1H
X-Robots-Tag:noindex
X-PUBLISHED-TTL:PT1H
BEGIN:VTIMEZONE
TZID:Europe/Vienna
BEGIN:DAYLIGHT
TZOFFSETFROM:+0100
TZOFFSETTO:+0200
TZNAME:CEST
DTSTART:20250330T010000
END:DAYLIGHT
BEGIN:STANDARD
TZOFFSETFROM:+0200
TZOFFSETTO:+0100
TZNAME:CET
DTSTART:20251026T010000
END:STANDARD
BEGIN:DAYLIGHT
TZOFFSETFROM:+0100
TZOFFSETTO:+0200
TZNAME:CEST
DTSTART:20260329T010000
END:DAYLIGHT
BEGIN:STANDARD
TZOFFSETFROM:+0200
TZOFFSETTO:+0100
TZNAME:CET
DTSTART:20261025T010000
END:STANDARD
BEGIN:DAYLIGHT
TZOFFSETFROM:+0100
TZOFFSETTO:+0200
TZNAME:CEST
DTSTART:20270328T010000
END:DAYLIGHT
BEGIN:STANDARD
TZOFFSETFROM:+0200
TZOFFSETTO:+0100
TZNAME:CET
DTSTART:20271031T010000
END:STANDARD
END:VTIMEZONE
BEGIN:VEVENT
DTSTART;TZID=Europe/Vienna:20260508T190000
DTEND;TZID=Europe/Vienna:20260508T220000
DTSTAMP:20260423T144610
CREATED:20251221T215406Z
LAST-MODIFIED:20251221T215406Z
UID:3754-1778266800-1778277600@12meat.de
SUMMARY:12meat Golden Hour Social Dinner Innsbruck
DESCRIPTION:
URL:https://12meat.de/produkt/tickets-12meat-golden-hour-social-dinner-innsbruck-2026-05-08-1900/
LOCATION:Anichstraße 12\, Innsbruck\, 6020\, Austria
CATEGORIES:Social Dinner
END:VEVENT
BEGIN:VEVENT
DTSTART;TZID=Europe/Vienna:20260508T190000
DTEND;TZID=Europe/Vienna:20260508T220000
DTSTAMP:20260423T144610
CREATED:20251221T215418Z
LAST-MODIFIED:20251221T215418Z
UID:3757-1778266800-1778277600@12meat.de
SUMMARY:12meat Golden Hour Social Dinner Graz
DESCRIPTION:
URL:https://12meat.de/produkt/tickets-12meat-golden-hour-social-dinner-graz-2026-05-08-1900/
LOCATION:Südtirolerplatz 2\, Graz\, 8020\, Austria
CATEGORIES:Social Dinner
END:VEVENT
BEGIN:VEVENT
DTSTART;TZID=Europe/Vienna:20260508T190000
DTEND;TZID=Europe/Vienna:20260508T220000
DTSTAMP:20260423T144610
CREATED:20251222T003411Z
LAST-MODIFIED:20251222T003411Z
UID:3770-1778266800-1778277600@12meat.de
SUMMARY:12meat Golden Hour Social Dinner Basel
DESCRIPTION:
URL:https://12meat.de/produkt/tickets-12meat-golden-hour-social-dinner-basel-2026-05-08-1900/
LOCATION:Basel\, Switzerland
CATEGORIES:Social Dinner
END:VEVENT
BEGIN:VEVENT
DTSTART;TZID=Europe/Vienna:20260514T190000
DTEND;TZID=Europe/Vienna:20260514T220000
DTSTAMP:20260423T144610
CREATED:20251113T201828Z
LAST-MODIFIED:20251221T213857Z
UID:2397-1778785200-1778796000@12meat.de
SUMMARY:12meat Golden Hour Social Dinner Wien
DESCRIPTION:
URL:https://12meat.de/produkt/tickets-golden-hour-social-dinner-wien-2026-05-14-1900/
LOCATION:Lenaugasse 11\, Wien\, 1080\, Austria
CATEGORIES:Social Dinner
END:VEVENT
BEGIN:VEVENT
DTSTART;TZID=Europe/Vienna:20260514T190000
DTEND;TZID=Europe/Vienna:20260514T220000
DTSTAMP:20260423T144610
CREATED:20251222T002737Z
LAST-MODIFIED:20251222T002737Z
UID:3765-1778785200-1778796000@12meat.de
SUMMARY:12meat Golden Hour Social Dinner München
DESCRIPTION:
URL:https://12meat.de/produkt/tickets-12meat-golden-hour-social-dinner-muenchen-2026-05-14-1900/
LOCATION:München\, Germany
CATEGORIES:Social Dinner
END:VEVENT
END:VCALENDAR